BEGIN:VCALENDAR
VERSION:2.0
PRODID:-//wp-events-plugin.com//7.1.7//EN
TZID:Europe/Paris
X-WR-TIMEZONE:Europe/Paris
BEGIN:VEVENT
UID:0-716@herblaysurseine.fr
DTSTART;TZID=Europe/Paris:20260114T103000
DTEND;TZID=Europe/Paris:20260114T113000
DTSTAMP:20250805T101750Z
URL:https://www.herblaysurseine.fr/evenements/cinevasion-14/
SUMMARY:CinÉvasion
DESCRIPTION:Venez profiter d'une série de courts et moyens métrages spéc
 ialement sélectionnés pour les petits spectateurs.\nNe manquez pas cette
  occasion de partager une expérience cinématographique avec vos enfants 
 !\nGratuit\, entrée libre dans la limite des places disponiblesPlus d'inf
 ormations sur le site de L'ÉchappéePublic : pour les enfants de 3 à 7 a
 ns et leur accompagnateur
ATTACH;FMTTYPE=image/jpeg:https://www.herblaysurseine.fr/app/uploads/2025/
 03/cinEvasion.jpg
CATEGORIES:Cinéma,Culture,Jeunesse
END:VEVENT
BEGIN:VTIMEZONE
TZID:Europe/Paris
X-LIC-LOCATION:Europe/Paris
BEGIN:STANDARD
DTSTART:20251026T020000
TZOFFSETFROM:+0200
TZOFFSETTO:+0100
TZNAME:CET
END:STANDARD
END:VTIMEZONE
END:VCALENDAR