BEGIN:VCALENDAR
VERSION:2.0
PRODID:-//wp-events-plugin.com//7.1.7//EN
TZID:Europe/Paris
X-WR-TIMEZONE:Europe/Paris
BEGIN:VEVENT
UID:0-788@herblaysurseine.fr
DTSTART;TZID=Europe/Paris:20251122T100000
DTEND;TZID=Europe/Paris:20251122T160000
DTSTAMP:20251112T180202Z
URL:https://www.herblaysurseine.fr/evenements/festivart-le-sport-au-dela-d
 es-differences/
SUMMARY:Festiv'art : handisport pour tous
DESCRIPTION:Le Festiv’Art signe sa 12ᵉ édition et continue de porter l
 e même message : changer le regard sur le handicap dès le plus jeune âg
 e. Du 17 au 21 novembre\, 36 classes d'écoliers participeront à des atel
 iers handisports. Pour prolonger l’expérience en famille\,&nbsp\;cette&
 nbsp\;nouvelle édition du&nbsp\;Festiv’Art ouvre ses portes au grand&nb
 sp\;public&nbsp\;le samedi 22 novembre.&nbsp\;\nAu programme : céci-foot
 \, escrime et handball en fauteuil\, ou encore judo. Un événement en p
 artenariat avec le Comité Handisport du Val d’Oise\, ainsi que des a
 ssociations locales dont Bicycle qui apporte son aide aux familles dans 
 les troubles de l’humeur chez l’enfant (cyclothymie ou bipolarité). 
 \nQue vous soyez débutant ou confirmé\, en situation de handicap ou non\
 , cette journée est faite pour vous !Entrée libre\, ouvert à tousBuvett
 e proposée par Téléthon Espoir Herblay
ATTACH;FMTTYPE=image/jpeg:https://www.herblaysurseine.fr/app/uploads/2025/
 10/ALaffiche_996x664px_FESTIVART-scaled.jpg
CATEGORIES:Sport
LOCATION:Gymnase des Beauregards\, 20 chemin de la Croix de Bois 95220 Herb
 lay-Sur-Seine\, France
X-APPLE-STRUCTURED-LOCATION;VALUE=URI;X-ADDRESS=20 chemin de la Croix de Bo
 is 95220 Herblay-Sur-Seine\, France;X-APPLE-RADIUS=100;X-TITLE=Gymnase des
  Beauregards:geo:0,0
END:VEVENT
BEGIN:VTIMEZONE
TZID:Europe/Paris
X-LIC-LOCATION:Europe/Paris
BEGIN:STANDARD
DTSTART:20251026T020000
TZOFFSETFROM:+0200
TZOFFSETTO:+0100
TZNAME:CET
END:STANDARD
END:VTIMEZONE
END:VCALENDAR